BEGIN:VCALENDAR
VERSION:2.0
PRODID:-//scipnebraska.com//NONSGML kigkonsult.se iCalcreator 2.30.10//
CALSCALE:GREGORIAN
METHOD:PUBLISH
UID:721bf872-81ef-4eeb-8aaf-51eb764e5f76
X-WR-CALDESC:
X-WR-RELCALID:7e8b4e3888478fb9d139ef2f337d4586
X-WR-TIMEZONE:America/Chicago
BEGIN:VTIMEZONE
TZID:America/Chicago
BEGIN:STANDARD
TZNAME:CST
DTSTART:20251102T020000
TZOFFSETFROM:-0500
TZOFFSETTO:-0600
RDATE:20261101T020000
RDATE:20271107T020000
END:STANDARD
BEGIN:DAYLIGHT
TZNAME:CDT
DTSTART:20260308T020000
TZOFFSETFROM:-0600
TZOFFSETTO:-0500
RDATE:20270314T020000
END:DAYLIGHT
END:VTIMEZONE
BEGIN:VEVENT
UID:033be35b-af2b-4afe-bbe2-4f016f8e928b
DTSTAMP:20260420T091935Z
DESCRIPTION:
DTSTART;TZID=America/Chicago:20260605T040000
DTEND;TZID=America/Chicago:20260605T060000
LOCATION:Antelope Park
SUMMARY:Hop\, SCIP\, Jump\, and Run
END:VEVENT
END:VCALENDAR
