BEGIN:VCALENDAR
VERSION:2.0
PRODID:-//scipnebraska.com//NONSGML kigkonsult.se iCalcreator 2.30.10//
CALSCALE:GREGORIAN
METHOD:PUBLISH
UID:c052deb8-ee53-4f9f-8cf9-bf671a0311b6
X-WR-CALDESC:Region 5 is hosting a Youth Mental Health First Aid training o
 n December 9\, 2025. Youth Mental Health First Aid teaches a 5-step action
  plan to offer initial help to young people showing signs of a mental illn
 ess or in a crisis\, and connect them with the appropriate professional\, 
 peer\, social\, or self-help care.
X-WR-RELCALID:790403c955e77d32bf40c50510b0aa0d
X-WR-TIMEZONE:America/Chicago
BEGIN:VTIMEZONE
TZID:America/Chicago
BEGIN:STANDARD
TZNAME:CST
DTSTART:20251102T020000
TZOFFSETFROM:-0500
TZOFFSETTO:-0600
RDATE:20261101T020000
END:STANDARD
BEGIN:DAYLIGHT
TZNAME:CDT
DTSTART:20250309T020000
TZOFFSETFROM:-0600
TZOFFSETTO:-0500
RDATE:20260308T020000
RDATE:20270314T020000
END:DAYLIGHT
END:VTIMEZONE
BEGIN:VEVENT
UID:b1a67bdd-3a3f-41a4-823e-d32faf98796b
DTSTAMP:20260420T090159Z
DESCRIPTION:Region 5 is hosting a Youth Mental Health First Aid training on
  December 9\, 2025. Youth Mental Health First Aid teaches a 5-step action 
 plan to offer initial help to young people showing signs of a mental illne
 ss or in a crisis\, and connect them with the appropriate professional\, p
 eer\, social\, or self-help care.
DTSTART;TZID=America/Chicago:20251209T050000
DTEND;TZID=America/Chicago:20251209T050001
LOCATION:
SUMMARY:YOUTH Mental Health First Aid- Region 5
END:VEVENT
END:VCALENDAR
