BEGIN:VCALENDAR
VERSION:2.0
PRODID:-//scipnebraska.com//NONSGML kigkonsult.se iCalcreator 2.30.10//
CALSCALE:GREGORIAN
METHOD:PUBLISH
UID:a5092453-19f3-4b71-b1d3-2690c5b9e654
X-WR-CALDESC:
X-WR-RELCALID:0b1ff6fa94fa029f06040731e3335595
X-WR-TIMEZONE:America/Chicago
BEGIN:VTIMEZONE
TZID:America/Chicago
BEGIN:STANDARD
TZNAME:CST
DTSTART:20251102T020000
TZOFFSETFROM:-0500
TZOFFSETTO:-0600
RDATE:20261101T020000
END:STANDARD
BEGIN:DAYLIGHT
TZNAME:CDT
DTSTART:20250309T020000
TZOFFSETFROM:-0600
TZOFFSETTO:-0500
RDATE:20260308T020000
RDATE:20270314T020000
END:DAYLIGHT
END:VTIMEZONE
BEGIN:VEVENT
UID:c4818c21-e6ee-4155-86d3-58b1c9dc745f
DTSTAMP:20260420T105802Z
DESCRIPTION:
DTSTART;TZID=America/Chicago:20251127T050000
DTEND;TZID=America/Chicago:20251128T050001
LOCATION:
SUMMARY:Holiday- Coordinators will be out of the office
END:VEVENT
END:VCALENDAR
