BEGIN:VCALENDAR
VERSION:2.0
PRODID:-//scipnebraska.com//NONSGML kigkonsult.se iCalcreator 2.30.10//
CALSCALE:GREGORIAN
METHOD:PUBLISH
UID:2d1513a5-22ab-45c1-9af8-1f3005db5e41
X-WR-CALDESC:
X-WR-RELCALID:d99a84eedd3ac2c923568379480caf97
X-WR-TIMEZONE:America/Chicago
BEGIN:VTIMEZONE
TZID:America/Chicago
BEGIN:STANDARD
TZNAME:CST
DTSTART:20251102T020000
TZOFFSETFROM:-0500
TZOFFSETTO:-0600
RDATE:20261101T020000
END:STANDARD
BEGIN:DAYLIGHT
TZNAME:CDT
DTSTART:20250309T020000
TZOFFSETFROM:-0600
TZOFFSETTO:-0500
RDATE:20260308T020000
RDATE:20270314T020000
END:DAYLIGHT
END:VTIMEZONE
BEGIN:VEVENT
UID:f8661bc4-d68c-4284-ad6c-3b4ff9c314e3
DTSTAMP:20260420T105801Z
DESCRIPTION:
DTSTART;TZID=America/Chicago:20251108T050000
DTEND;TZID=America/Chicago:20251108T050001
LOCATION:Omaha\, Nebraska
SUMMARY:Bridges to Mental Health Seminar- Omaha
END:VEVENT
END:VCALENDAR
