BEGIN:VCALENDAR
VERSION:2.0
PRODID:-//scipnebraska.com//NONSGML kigkonsult.se iCalcreator 2.30.10//
CALSCALE:GREGORIAN
METHOD:PUBLISH
UID:bc04a1ef-eb60-40ae-a206-09de92ceb85e
X-WR-CALDESC:Vaping poses significant health risks to our youth. While yout
 h may start vaping for a variety of reasons\, a large number of young peop
 le vape nicotine and/or marijuana to lessen feelings of stress\, anxiety\,
  or depression. When better coping skills are developed\, there may be few
 er temptations to try to manage mental health challenges through vaping\, 
 reducing the possibility of addiction and the risk of negative health outc
 omes. Lindsay Brundege\, a therapist with Jenda Family Services will discu
 ss:\n\n• Nicotine/marijuana and their impact on the developing brain \n• A
 ddiction and the brain\, and why it’s difficult to “just stop” \n• Why tee
 ns vape \n• Vaping and mental health concerns \n• How parents\, adults\, a
 nd professionals can help \n• Resources available to support teens’ mental
  health and substance use
X-WR-RELCALID:92339e2e5e45073ba63fbf4f809e6c0d
X-WR-TIMEZONE:America/Chicago
BEGIN:VTIMEZONE
TZID:America/Chicago
BEGIN:STANDARD
TZNAME:CST
DTSTART:20231105T020000
TZOFFSETFROM:-0500
TZOFFSETTO:-0600
RDATE:20241103T020000
END:STANDARD
BEGIN:DAYLIGHT
TZNAME:CDT
DTSTART:20230312T020000
TZOFFSETFROM:-0600
TZOFFSETTO:-0500
RDATE:20240310T020000
RDATE:20250309T020000
END:DAYLIGHT
END:VTIMEZONE
BEGIN:VEVENT
UID:fd4e8763-5a17-45fd-a4df-f0c4a65533cc
DTSTAMP:20260420T195159Z
DESCRIPTION:Vaping poses significant health risks to our youth. While youth
  may start vaping for a variety of reasons\, a large number of young peopl
 e vape nicotine and/or marijuana to lessen feelings of stress\, anxiety\, 
 or depression. When better coping skills are developed\, there may be fewe
 r temptations to try to manage mental health challenges through vaping\, r
 educing the possibility of addiction and the risk of negative health outco
 mes. Lindsay Brundege\, a therapist with Jenda Family Services will discus
 s:\n\n• Nicotine/marijuana and their impact on the developing brain \n• Ad
 diction and the brain\, and why it’s difficult to “just stop” \n• Why teen
 s vape \n• Vaping and mental health concerns \n• How parents\, adults\, an
 d professionals can help \n• Resources available to support teens’ mental 
 health and substance use
DTSTART;TZID=America/Chicago:20240229T183000
DTEND;TZID=America/Chicago:20240229T200000
LOCATION:4600 Valley Road\, Lincoln Medical Education Partnership\, Vrbka C
 lassrooms (Entrance 1\, First Floor)\, Lincoln\, NE 68510 US
SUMMARY:Community Awareness Event - Keeping Current: Youth Vaping and Menta
 l Health
END:VEVENT
END:VCALENDAR
