BEGIN:VCALENDAR
VERSION:2.0
PRODID:-//scipnebraska.com//NONSGML kigkonsult.se iCalcreator 2.30.10//
CALSCALE:GREGORIAN
METHOD:PUBLISH
UID:aa273698-cc03-4558-b157-42a31810cd8c
X-WR-CALDESC:Looking for a great family-friendly event to kick off your Sum
 mer? Head over to Antelope Park on June 2nd for an evening of outdoor fun 
 at 'Hop\, SCIP\, Jump\, and Run\,' benefitting School Community Interventi
 on and Prevention (SCIP). This year's event\, which is brought to you by F
 amily Health and Wellness Center\, will run from 5:30 to 7:30 p.m. and wil
 l feature a variety of booths and activities sponsored by local nonprofits
 . New this year is a Photo Booth to capture memories of the event. Visit a
  pre-set number of booths and activities\, and the kids can enter their na
 mes into a drawing for prizes donated by area businesses.\n\nAfter visitin
 g booths and participating in the activities\, put on your running shoes f
 or a 1-mile Fun Run throughout the park. Prizes will be awarded to the top
  three finishers. Kids under 9 must be accompanied by an adult. Participat
 ion in the event Fun Run is free\; pre-registration for the Fun Run is req
 uired by May 31st. For more information and a link to register\, follow th
 e link below.
X-WR-RELCALID:9e2a838f5a4e1ed328cf0150eafeb860
X-WR-TIMEZONE:America/Chicago
BEGIN:VTIMEZONE
TZID:America/Chicago
BEGIN:STANDARD
TZNAME:CST
DTSTART:20221106T020000
TZOFFSETFROM:-0500
TZOFFSETTO:-0600
RDATE:20231105T020000
RDATE:20241103T020000
END:STANDARD
BEGIN:DAYLIGHT
TZNAME:CDT
DTSTART:20230312T020000
TZOFFSETFROM:-0600
TZOFFSETTO:-0500
RDATE:20240310T020000
END:DAYLIGHT
END:VTIMEZONE
BEGIN:VEVENT
UID:7b9bbf94-60ce-4278-8ac6-400ced4b734b
DTSTAMP:20260420T070110Z
DESCRIPTION:Looking for a great family-friendly event to kick off your Summ
 er? Head over to Antelope Park on June 2nd for an evening of outdoor fun a
 t 'Hop\, SCIP\, Jump\, and Run\,' benefitting School Community Interventio
 n and Prevention (SCIP). This year's event\, which is brought to you by Fa
 mily Health and Wellness Center\, will run from 5:30 to 7:30 p.m. and will
  feature a variety of booths and activities sponsored by local nonprofits.
  New this year is a Photo Booth to capture memories of the event. Visit a 
 pre-set number of booths and activities\, and the kids can enter their nam
 es into a drawing for prizes donated by area businesses.\n\nAfter visiting
  booths and participating in the activities\, put on your running shoes fo
 r a 1-mile Fun Run throughout the park. Prizes will be awarded to the top 
 three finishers. Kids under 9 must be accompanied by an adult. Participati
 on in the event Fun Run is free\; pre-registration for the Fun Run is requ
 ired by May 31st. For more information and a link to register\, follow the
  link below.
DTSTART;TZID=America/Chicago:20230602T173000
DTEND;TZID=America/Chicago:20230602T193000
LOCATION:Antelope Park Enclosed Shelter
SUMMARY:Hop\, SCIP\, Jump\, and Run
END:VEVENT
END:VCALENDAR
