BEGIN:VCALENDAR
VERSION:2.0
PRODID:-//scipnebraska.com//NONSGML kigkonsult.se iCalcreator 2.30.10//
CALSCALE:GREGORIAN
METHOD:PUBLISH
UID:0371e5fd-b342-4699-b71c-ee6f44364bef
X-WR-CALDESC:Karen Haase is an attorney at KSB School Law. Prior to attendi
 ng law school\, Karen taught at both the high school and post-secondary le
 vel. She is an expert in relating Nebraska law and social media/online iss
 ues. Ms. Haase will discuss cyberbullying\, sexting\, and internet safety.
  This presentation is open to students\, parents/guardians\, educators\, a
 nd other youth-serving advocates. Karen uses humor\, statistics\, summarie
 s of real-life cases\, and discusses the real-life consequences attached t
 o the inappropriate use of social media. She also presents frightening res
 ults that students who ignore internet safety have faced.\n\nPlease contac
 t Abbe Edgecombe\, SCIP Coordinator for Lincoln-Lancaster County\, for any
  questions or additional information.
X-WR-RELCALID:fe8aa95fb11a6bf53f4afdd85d3af21b
X-WR-TIMEZONE:America/Chicago
BEGIN:VTIMEZONE
TZID:America/Chicago
BEGIN:STANDARD
TZNAME:CST
DTSTART:20221106T020000
TZOFFSETFROM:-0500
TZOFFSETTO:-0600
RDATE:20231105T020000
END:STANDARD
BEGIN:DAYLIGHT
TZNAME:CDT
DTSTART:20220313T020000
TZOFFSETFROM:-0600
TZOFFSETTO:-0500
RDATE:20230312T020000
RDATE:20240310T020000
END:DAYLIGHT
END:VTIMEZONE
BEGIN:VEVENT
UID:3b276677-7b95-4a79-80a2-1b4496ec0ae0
DTSTAMP:20260420T003955Z
DESCRIPTION:Karen Haase is an attorney at KSB School Law. Prior to attendin
 g law school\, Karen taught at both the high school and post-secondary lev
 el. She is an expert in relating Nebraska law and social media/online issu
 es. Ms. Haase will discuss cyberbullying\, sexting\, and internet safety. 
 This presentation is open to students\, parents/guardians\, educators\, an
 d other youth-serving advocates. Karen uses humor\, statistics\, summaries
  of real-life cases\, and discusses the real-life consequences attached to
  the inappropriate use of social media. She also presents frightening resu
 lts that students who ignore internet safety have faced.\n\nPlease contact
  Abbe Edgecombe\, SCIP Coordinator for Lincoln-Lancaster County\, for any 
 questions or additional information.
DTSTART;TZID=America/Chicago:20230209T183000
DTEND;TZID=America/Chicago:20230209T200000
LOCATION:1000 S. 70th Street\, Lincoln East High School (Cafeteria\, Enter 
 through Door #1)\, Lincoln\, NE 68510 US
SUMMARY:Community Awareness Event: Digital Citizenship: Cyberbullying\, Sex
 ting\, and Internet Safety
END:VEVENT
END:VCALENDAR
