BEGIN:VCALENDAR
VERSION:2.0
PRODID:-//scipnebraska.com//NONSGML kigkonsult.se iCalcreator 2.30.10//
CALSCALE:GREGORIAN
METHOD:PUBLISH
UID:9d5ae03d-4760-4559-b41d-db688ef6a414
X-WR-CALDESC:In the United States\, children start using social media aroun
 d 11 years of age (American Academy of Pediatric). Snapchat\, TikTok\, and
  Instagram are among the most popular social media platform used by youth.
  While there are positive aspects of social media\, there are also potenti
 al risks. Join us for this important community presentation to learn how t
 o help youth navigate the world of social media in a health way. Dr. Melis
 sa Lafferty\, Clinical Psychologist at Nebraska Mental Health Centers\, wi
 ll discuss the following:\n\n•	The positive and negative consequences of so
 cial media consumption\n•	The “addiction” cycle of social media consumption
 \nn	The consequences of that cycle on how others connect with each other\n•
 	Strategies for finding balance with social media consumption while still m
 aking meaningful connections off-line\n\nPlease contact Abbe\, SCIP Coordi
 nator for Lincoln-Lancaster County\, for questions or additional informati
 on.
X-WR-RELCALID:0d828896b63e847dbe33181115d1cc3a
X-WR-TIMEZONE:America/Chicago
BEGIN:VTIMEZONE
TZID:America/Chicago
BEGIN:STANDARD
TZNAME:CST
DTSTART:20221106T020000
TZOFFSETFROM:-0500
TZOFFSETTO:-0600
RDATE:20231105T020000
END:STANDARD
BEGIN:DAYLIGHT
TZNAME:CDT
DTSTART:20220313T020000
TZOFFSETFROM:-0600
TZOFFSETTO:-0500
RDATE:20230312T020000
RDATE:20240310T020000
END:DAYLIGHT
END:VTIMEZONE
BEGIN:VEVENT
UID:5854b1f5-c194-4eba-a699-9d4b3a6178d2
DTSTAMP:20260419T231703Z
DESCRIPTION:In the United States\, children start using social media around
  11 years of age (American Academy of Pediatric). Snapchat\, TikTok\, and 
 Instagram are among the most popular social media platform used by youth. 
 While there are positive aspects of social media\, there are also potentia
 l risks. Join us for this important community presentation to learn how to
  help youth navigate the world of social media in a health way. Dr. Meliss
 a Lafferty\, Clinical Psychologist at Nebraska Mental Health Centers\, wil
 l discuss the following:\n\n•	The positive and negative consequences of soc
 ial media consumption\n•	The “addiction” cycle of social media consumption
 \nn	The consequences of that cycle on how others connect with each other\n•
 	Strategies for finding balance with social media consumption while still m
 aking meaningful connections off-line\n\nPlease contact Abbe\, SCIP Coordi
 nator for Lincoln-Lancaster County\, for questions or additional informati
 on.
DTSTART;TZID=America/Chicago:20230119T183000
DTEND;TZID=America/Chicago:20230119T200000
LOCATION:4600 Valley Road\, Lincoln Medical Education Partnership Vrbka Cla
 ssrooms (Entrance 1\, First Floor)\, Lincoln\, NE 68510 US
SUMMARY:Community Awareness Event: Unplugged: Finding Balance with our Soci
 al Media Connections and Connections in our Life
END:VEVENT
END:VCALENDAR
