BEGIN:VCALENDAR
VERSION:2.0
PRODID:-//scipnebraska.com//NONSGML kigkonsult.se iCalcreator 2.30.10//
CALSCALE:GREGORIAN
METHOD:PUBLISH
UID:cbc688af-5204-4d1e-b809-b4a64eddbde2
X-WR-CALDESC:As parents and educators\, our number-one concern is our child
 ren. But in today's world of social media and technology\, do you know if 
 your kids are truly safe?  \n \nOur children are at risk from people who w
 ant to do harm and one of the biggest ways they find our youth is through 
 social media.  \n \nStephanie Olson\, with The Set Me Free Project will di
 scuss how we can keep our children safe on social media. \n \nYou will lea
 rn: \nâ€¢	How to help your child safely navigate social media and gaming plat
 forms \nâ€¢	Current apps - the good\, the bad\, and the ugly \nâ€¢	What the groo
 ming process is and how people who want to do harm use social media to gro
 om our kids \nâ€¢	Our kidsâ€™ brains on social media: The science of social med
 ia\, how does social media affect kids \nâ€¢	Sexual images and social media 
 \nânâ	How are they at risk and by whom?  \n
X-WR-RELCALID:24c055645c43fd4ae0b0645d9706952a
X-WR-TIMEZONE:America/Chicago
BEGIN:VTIMEZONE
TZID:America/Chicago
BEGIN:STANDARD
TZNAME:CST
DTSTART:20211107T020000
TZOFFSETFROM:-0500
TZOFFSETTO:-0600
RDATE:20221106T020000
RDATE:20231105T020000
END:STANDARD
BEGIN:DAYLIGHT
TZNAME:CDT
DTSTART:20220313T020000
TZOFFSETFROM:-0600
TZOFFSETTO:-0500
RDATE:20230312T020000
RDATE:20240310T020000
END:DAYLIGHT
END:VTIMEZONE
BEGIN:VEVENT
UID:8d18a95c-450d-4b41-9b21-3ac3eb3d1f62
DTSTAMP:20260419T181152Z
DESCRIPTION:As parents and educators\, our number-one concern is our childr
 en. But in today's world of social media and technology\, do you know if y
 our kids are truly safe?  \n \nOur children are at risk from people who wa
 nt to do harm and one of the biggest ways they find our youth is through s
 ocial media.  \n \nStephanie Olson\, with The Set Me Free Project will dis
 cuss how we can keep our children safe on social media. \n \nYou will lear
 n: \nâ€¢	How to help your child safely navigate social media and gaming platf
 orms \nâ€¢	Current apps - the good\, the bad\, and the ugly \nâ€¢	What the groom
 ing process is and how people who want to do harm use social media to groo
 m our kids \nâ€¢	Our kidsâ€™ brains on social media: The science of social medi
 a\, how does social media affect kids \nâ€¢	Sexual images and social media \n
 â€¢	How are they at risk and by whom?  \n
DTSTART;TZID=America/Chicago:20221027T063000
DTEND;TZID=America/Chicago:20221027T200000
LOCATION:2200 Pine Lake Road\, Scott Middle School\, Multipurpose Room\, Li
 ncoln\, NE 68512 US
SUMMARY:Community Awareness Event
END:VEVENT
END:VCALENDAR
