BEGIN:VCALENDAR
VERSION:2.0
PRODID:-//scipnebraska.com//NONSGML kigkonsult.se iCalcreator 2.30.10//
CALSCALE:GREGORIAN
METHOD:PUBLISH
UID:37c8c4bc-68ef-442e-9f0a-a73d92496c06
X-WR-CALDESC:As a result of this training\, participants will gain new insi
 ght into the negative physical and mental health effects of marijuana on t
 he developing adolescent brain\, discuss common misconceptions about marij
 uana use\, and differentiate between recreational marijuana use versus pro
 blematic use in adolescents.\n\nPresenter: Whitney Chrisman\, LIMHP\, LADC
 \nWhitney Chrisman is a Licensed Independent Mental Health Practitioner an
 d Licensed Alcohol and Drug Counselor. Whitney has been practicing therapy
  for 5 years and has worked primarily with adolescents and young adults. S
 he has previous experience working in a residential substance use treatmen
 t setting and is currently working at Jenda Family Services in their Outpa
 tient Clinic. Whitney has been trained in several clinical areas including
  substance use\, trauma and human trafficking and enjoys implementing a va
 riety of treatment approaches including DBT\, CBT\, narrative\, and art th
 erapy.\n\nPlease note: this training will be held exclusively in-person at
  Lincoln Medical Education Partnership.
X-WR-RELCALID:63e2366a7b28a8e5eca66d62863dbb33
X-WR-TIMEZONE:America/Chicago
BEGIN:VTIMEZONE
TZID:America/Chicago
BEGIN:STANDARD
TZNAME:CST
DTSTART:20211107T020000
TZOFFSETFROM:-0500
TZOFFSETTO:-0600
RDATE:20221106T020000
RDATE:20231105T020000
END:STANDARD
BEGIN:DAYLIGHT
TZNAME:CDT
DTSTART:20220313T020000
TZOFFSETFROM:-0600
TZOFFSETTO:-0500
RDATE:20230312T020000
RDATE:20240310T020000
END:DAYLIGHT
END:VTIMEZONE
BEGIN:VEVENT
UID:d2316bf3-8b5f-42a1-8557-27514d571ba3
DTSTAMP:20260419T163454Z
DESCRIPTION:As a result of this training\, participants will gain new insig
 ht into the negative physical and mental health effects of marijuana on th
 e developing adolescent brain\, discuss common misconceptions about mariju
 ana use\, and differentiate between recreational marijuana use versus prob
 lematic use in adolescents.\n\nPresenter: Whitney Chrisman\, LIMHP\, LADC
 \nWhitney Chrisman is a Licensed Independent Mental Health Practitioner an
 d Licensed Alcohol and Drug Counselor. Whitney has been practicing therapy
  for 5 years and has worked primarily with adolescents and young adults. S
 he has previous experience working in a residential substance use treatmen
 t setting and is currently working at Jenda Family Services in their Outpa
 tient Clinic. Whitney has been trained in several clinical areas including
  substance use\, trauma and human trafficking and enjoys implementing a va
 riety of treatment approaches including DBT\, CBT\, narrative\, and art th
 erapy.\n\nPlease note: this training will be held exclusively in-person at
  Lincoln Medical Education Partnership.
DTSTART;TZID=America/Chicago:20220916T090000
DTEND;TZID=America/Chicago:20220916T120000
LOCATION:4600 Valley Road\, Vrbka Rooms 1-3\, Lincoln\, NE 68510 US
SUMMARY:Marijuana Use & Adolescent Brain Development Training
END:VEVENT
END:VCALENDAR
