BEGIN:VCALENDAR
VERSION:2.0
PRODID:-//scipnebraska.com//NONSGML kigkonsult.se iCalcreator 2.30.10//
CALSCALE:GREGORIAN
METHOD:PUBLISH
UID:62547e24-39b8-4cbf-aed7-fddaa505254d
X-WR-CALDESC:SCIP works with schools throughout Nebraska by providing tools
  and resources to address behavioral and emotional health issues that impa
 ct children\, adolescents\, and their families.  Annual trainings and comm
 unity forums are offered on a variety of behavioral and emotional health t
 opics like bullying\, current drug trends\, anxiety\, depression\, self-ha
 rm\, dating violence\, and suicide prevention. SCIP’s mission is to provid
 e an effective prevention and early intervention process for youth with be
 havioral health concerns so they may achieve healthy\, productive lives. M
 oney raised at this event will help SCIP provide needed resources to schoo
 ls and families throughout the state of Nebraska.\n\nCost: Free! \nREGISTR
 ATION STILL REQUIRED! \nOnline registration closes on May 27\, 2022. Regis
 trations will be accepted at the door. Registrations received after May 20
 th are not guaranteed an event t-shirt.
X-WR-RELCALID:96a12e7a6f2da17ad5fad58974608fc2
X-WR-TIMEZONE:America/Chicago
BEGIN:VTIMEZONE
TZID:America/Chicago
BEGIN:STANDARD
TZNAME:CST
DTSTART:20211107T020000
TZOFFSETFROM:-0500
TZOFFSETTO:-0600
RDATE:20221106T020000
RDATE:20231105T020000
END:STANDARD
BEGIN:DAYLIGHT
TZNAME:CDT
DTSTART:20220313T020000
TZOFFSETFROM:-0600
TZOFFSETTO:-0500
RDATE:20230312T020000
END:DAYLIGHT
END:VTIMEZONE
BEGIN:VEVENT
UID:107c04fa-0239-4ef6-afdf-e472f88795fb
DTSTAMP:20260419T124311Z
DESCRIPTION:SCIP works with schools throughout Nebraska by providing tools 
 and resources to address behavioral and emotional health issues that impac
 t children\, adolescents\, and their families.  Annual trainings and commu
 nity forums are offered on a variety of behavioral and emotional health to
 pics like bullying\, current drug trends\, anxiety\, depression\, self-har
 m\, dating violence\, and suicide prevention. SCIP’s mission is to provide
  an effective prevention and early intervention process for youth with beh
 avioral health concerns so they may achieve healthy\, productive lives. Mo
 ney raised at this event will help SCIP provide needed resources to school
 s and families throughout the state of Nebraska.\n\nCost: Free! \nREGISTRA
 TION STILL REQUIRED! \nOnline registration closes on May 27\, 2022. Regist
 rations will be accepted at the door. Registrations received after May 20t
 h are not guaranteed an event t-shirt.
DTSTART;TZID=America/Chicago:20220603T173000
DTEND;TZID=America/Chicago:20220603T200000
LOCATION:Antelope Park Enclosed Shelter
SUMMARY:Hop\, SCIP\, Jump and Run 2022
END:VEVENT
END:VCALENDAR
