BEGIN:VCALENDAR
VERSION:2.0
PRODID:-//scipnebraska.com//NONSGML kigkonsult.se iCalcreator 2.30.10//
CALSCALE:GREGORIAN
METHOD:PUBLISH
UID:0e4f5080-7050-4d28-a415-42155c425a7d
X-WR-CALDESC:QPR stands for Question\, Persuade\, and Refer —3 simple steps
  anyone can learn to help save a life from suicide. \n \nThe mission of QP
 R is to save lives and reduce suicidal behaviors by providing innovative\,
  practical and proven suicide prevention training. QPR will train people t
 o recognize the warning signs of a suicide crisis and how to question\, pe
 rsuade and refer someone to help. Quality education empowers all people\, 
 regardless of their background\, to make a positive difference in the life
  of someone they know.  \n \nThis training is presented by Abbe Edgecombe 
 with School Community Intervention & Prevention (SCIP) in partnership with
  Region V Systems. SCIP is a statewide program designed to support student
  mental\, emotional and behavioral health. Abbe coordinates SCIP for schoo
 ls in Lincoln and Lancaster County. \n \nPlease Note: This training is ope
 n to both adults and youth (Middle and High School Students) however\, stu
 dents must be logged in with a parent/guardian to attend.  \n\nVia Zoom:\n
 Meeting ID- 844 2888 4394\n
X-WR-RELCALID:326c5eb6aaafcc61d6edfe05c766bdfa
X-WR-TIMEZONE:America/Chicago
BEGIN:VTIMEZONE
TZID:America/Chicago
BEGIN:STANDARD
TZNAME:CST
DTSTART:20201101T020000
TZOFFSETFROM:-0500
TZOFFSETTO:-0600
RDATE:20211107T020000
END:STANDARD
BEGIN:DAYLIGHT
TZNAME:CDT
DTSTART:20200308T020000
TZOFFSETFROM:-0600
TZOFFSETTO:-0500
RDATE:20210314T020000
RDATE:20220313T020000
END:DAYLIGHT
END:VTIMEZONE
BEGIN:VEVENT
UID:3cdd0f72-f572-411d-8698-31f74749255c
DTSTAMP:20260419T134313Z
DESCRIPTION:QPR stands for Question\, Persuade\, and Refer —3 simple steps 
 anyone can learn to help save a life from suicide. \n \nThe mission of QPR
  is to save lives and reduce suicidal behaviors by providing innovative\, 
 practical and proven suicide prevention training. QPR will train people to
  recognize the warning signs of a suicide crisis and how to question\, per
 suade and refer someone to help. Quality education empowers all people\, r
 egardless of their background\, to make a positive difference in the life 
 of someone they know.  \n \nThis training is presented by Abbe Edgecombe w
 ith School Community Intervention & Prevention (SCIP) in partnership with 
 Region V Systems. SCIP is a statewide program designed to support student 
 mental\, emotional and behavioral health. Abbe coordinates SCIP for school
 s in Lincoln and Lancaster County. \n \nPlease Note: This training is open
  to both adults and youth (Middle and High School Students) however\, stud
 ents must be logged in with a parent/guardian to attend.  \n\nVia Zoom:\nM
 eeting ID- 844 2888 4394\n
DTSTART;TZID=America/Chicago:20201203T183000
DTEND;TZID=America/Chicago:20201203T194500
LOCATION:https://us02web.zoom.us/j/84428884394
SUMMARY:QPR Gatekeeper Training
END:VEVENT
END:VCALENDAR
