BEGIN:VCALENDAR
VERSION:2.0
PRODID:-//scipnebraska.com//NONSGML kigkonsult.se iCalcreator 2.30.10//
CALSCALE:GREGORIAN
METHOD:PUBLISH
UID:ff6bc380-4ade-43be-8b9d-e8eb95ae4f46
X-WR-CALDESC:This presentation will explain definitions related to working 
 with LGBTQIA+ students.  Risks in schools specific to this population will
  be discussed as well as interventions that can help reduce risks.  This p
 resentation will also discuss media that presents challenges for young LGB
 TQIA+ students  and media that demonstrates support and interventions.  A 
 portion of the presentation will also be a \npanel discussion where partic
 ipants can ask best practices questions. \n\nFill out the Registration for
 m and return to Valerie Hotsenpillar.
X-WR-RELCALID:88121ad182aa5a612134d569992e10e2
X-WR-TIMEZONE:America/Chicago
BEGIN:VTIMEZONE
TZID:America/Chicago
BEGIN:STANDARD
TZNAME:CST
DTSTART:20201101T020000
TZOFFSETFROM:-0500
TZOFFSETTO:-0600
RDATE:20211107T020000
END:STANDARD
BEGIN:DAYLIGHT
TZNAME:CDT
DTSTART:20200308T020000
TZOFFSETFROM:-0600
TZOFFSETTO:-0500
RDATE:20210314T020000
RDATE:20220313T020000
END:DAYLIGHT
END:VTIMEZONE
BEGIN:VEVENT
UID:83a39d3b-f6ff-49c2-ab98-e49a681bc7b7
DTSTAMP:20260419T151430Z
DESCRIPTION:This presentation will explain definitions related to working w
 ith LGBTQIA+ students.  Risks in schools specific to this population will 
 be discussed as well as interventions that can help reduce risks.  This pr
 esentation will also discuss media that presents challenges for young LGBT
 QIA+ students  and media that demonstrates support and interventions.  A p
 ortion of the presentation will also be a \npanel discussion where partici
 pants can ask best practices questions. \n\nFill out the Registration form
  and return to Valerie Hotsenpillar.
DTSTART;TZID=America/Chicago:20201117T123000
DTEND;TZID=America/Chicago:20201117T153000
LOCATION:Zoom
SUMMARY:Supporting Our LGBTQIA+ Youth
END:VEVENT
END:VCALENDAR
