BEGIN:VCALENDAR
VERSION:2.0
PRODID:-//scipnebraska.com//NONSGML kigkonsult.se iCalcreator 2.30.10//
CALSCALE:GREGORIAN
METHOD:PUBLISH
UID:d00d8864-aa15-4093-a552-93dedfb6151b
X-WR-CALDESC:'Help\, Hope\, Heal: Finding Light Through the Darkness' *\nKe
 ynote Speaker: Dr. Scott Poland\n\nDr. Scott Poland is a Professor at the 
 College of Psychology and the Co-Director of the Suicide and Violence Prev
 ention Office at Nova Southeastern University in Fort Lauderdale\, FL. Dr.
  Poland is a licensed psychologist and an internationally recognized exper
 t on school safety\, youth suicide\, self-injury\, bullying\, school crisi
 s prevention/intervention\, threat assessment\, and parenting in challengi
 ng times. He has authored or co-authored five books and many chapters and 
 articles on these subjects and has served as a legal expert in a number of
  lawsuits. He also recently co-authored the Suicide Safer Schools Plan for
  the state of Texas and the Crisis Action School Toolkit-Suicide for the s
 tate of Montana.\n\nDr. Poland will discuss how to develop a comprehensive
  best practices model for youth suicide prevention\, intervention\, and po
 stvention in the schools that includes screenings and comprehensive assess
 ment. He will also discuss the importance of collaboration with mental hea
 lth service providers for re-entry planning and postvention practices. Leg
 al cases in which schools were sued following a youth suicide will be pres
 ented. \n\n*This event was originally scheduled for March 27\, 2020.
X-WR-RELCALID:4ca2999da897841a3c58ea05bbb91b1d
X-WR-TIMEZONE:America/Chicago
BEGIN:VTIMEZONE
TZID:America/Chicago
BEGIN:STANDARD
TZNAME:CST
DTSTART:20191103T020000
TZOFFSETFROM:-0500
TZOFFSETTO:-0600
RDATE:20201101T020000
RDATE:20211107T020000
END:STANDARD
BEGIN:DAYLIGHT
TZNAME:CDT
DTSTART:20200308T020000
TZOFFSETFROM:-0600
TZOFFSETTO:-0500
RDATE:20210314T020000
RDATE:20220313T020000
END:DAYLIGHT
END:VTIMEZONE
BEGIN:VEVENT
UID:2b493315-b66e-4cbb-a366-0137538af070
DTSTAMP:20260419T163120Z
DESCRIPTION:'Help\, Hope\, Heal: Finding Light Through the Darkness' *\nKey
 note Speaker: Dr. Scott Poland\n\nDr. Scott Poland is a Professor at the C
 ollege of Psychology and the Co-Director of the Suicide and Violence Preve
 ntion Office at Nova Southeastern University in Fort Lauderdale\, FL. Dr. 
 Poland is a licensed psychologist and an internationally recognized expert
  on school safety\, youth suicide\, self-injury\, bullying\, school crisis
  prevention/intervention\, threat assessment\, and parenting in challengin
 g times. He has authored or co-authored five books and many chapters and a
 rticles on these subjects and has served as a legal expert in a number of 
 lawsuits. He also recently co-authored the Suicide Safer Schools Plan for 
 the state of Texas and the Crisis Action School Toolkit-Suicide for the st
 ate of Montana.\n\nDr. Poland will discuss how to develop a comprehensive 
 best practices model for youth suicide prevention\, intervention\, and pos
 tvention in the schools that includes screenings and comprehensive assessm
 ent. He will also discuss the importance of collaboration with mental heal
 th service providers for re-entry planning and postvention practices. Lega
 l cases in which schools were sued following a youth suicide will be prese
 nted. \n\n*This event was originally scheduled for March 27\, 2020.
DTSTART;TZID=America/Chicago:20201030T080000
DTEND;TZID=America/Chicago:20201030T153000
LOCATION:Lincoln Firefighters Reception Hall
SUMMARY:SCIP Spring Conference
END:VEVENT
END:VCALENDAR
