BEGIN:VCALENDAR
VERSION:2.0
PRODID:-//scipnebraska.com//NONSGML kigkonsult.se iCalcreator 2.30.10//
CALSCALE:GREGORIAN
METHOD:PUBLISH
UID:18e7fd3d-514c-4931-8870-0c0367e2353d
X-WR-CALDESC:\n'Help\, Hope\, Heal: Finding Light Through the Darkness' - P
 OSTPONED \nOut of an abundance of caution and concern for everyone’s healt
 h\, we are postponing the conference until later this year.  The exact dat
 e has not yet been determined\, as we will need to coordinate this with ou
 r keynote speaker\, Dr. Poland\, and our other presenters. However\, we ar
 e anticipating it will be re-scheduled this fall.  \nIf your registration 
 has already been paid\, we will carry it forward.  If you wish to request 
 a refund\, please contact me at kmadcharo@lmep.com or Chris Ivory at civor
 y@lmep.com.  \n\n
X-WR-RELCALID:6a51c4b641f2eeb5a49ac2c88a9ef80b
X-WR-TIMEZONE:America/Chicago
BEGIN:VTIMEZONE
TZID:America/Chicago
BEGIN:STANDARD
TZNAME:CST
DTSTART:20191103T020000
TZOFFSETFROM:-0500
TZOFFSETTO:-0600
RDATE:20201101T020000
END:STANDARD
BEGIN:DAYLIGHT
TZNAME:CDT
DTSTART:20200308T020000
TZOFFSETFROM:-0600
TZOFFSETTO:-0500
RDATE:20210314T020000
END:DAYLIGHT
END:VTIMEZONE
BEGIN:VEVENT
UID:b4303479-17b4-4f9e-9ced-b6b23d11d273
DTSTAMP:20260420T034921Z
DESCRIPTION:\n'Help\, Hope\, Heal: Finding Light Through the Darkness' - PO
 STPONED \nOut of an abundance of caution and concern for everyone’s health
 \, we are postponing the conference until later this year.  The exact date
  has not yet been determined\, as we will need to coordinate this with our
  keynote speaker\, Dr. Poland\, and our other presenters. However\, we are
  anticipating it will be re-scheduled this fall.  \nIf your registration h
 as already been paid\, we will carry it forward.  If you wish to request a
  refund\, please contact me at kmadcharo@lmep.com or Chris Ivory at civory
 @lmep.com.  \n\n
DTSTART;TZID=America/Chicago:20200327T080000
DTEND;TZID=America/Chicago:20200327T153000
LOCATION:Lincoln Firefighters Reception Hall
SUMMARY:POSTPONED SCIP Spring Conference
END:VEVENT
END:VCALENDAR
