BEGIN:VCALENDAR
VERSION:2.0
PRODID:-//scipnebraska.com//NONSGML kigkonsult.se iCalcreator 2.30.10//
CALSCALE:GREGORIAN
METHOD:PUBLISH
UID:e5aae773-a573-4830-9525-5994e9369af2
X-WR-CALDESC:This training will help providers determine when it is and isn
 ’t appropriate to do group therapy with youth.  Providers will also learn 
 interactive group techniques  that will create more engagement within the 
 group setting and elicit effective experiences for group members.  Partici
 pants will  have the opportunity to view and practice effective skills and
  techniques for working with youth in a group setting.\n
X-WR-RELCALID:65bad7889737c1a2df875ca6343f334d
X-WR-TIMEZONE:America/Chicago
BEGIN:VTIMEZONE
TZID:America/Chicago
BEGIN:STANDARD
TZNAME:CST
DTSTART:20181104T020000
TZOFFSETFROM:-0500
TZOFFSETTO:-0600
RDATE:20191103T020000
RDATE:20201101T020000
END:STANDARD
BEGIN:DAYLIGHT
TZNAME:CDT
DTSTART:20190310T020000
TZOFFSETFROM:-0600
TZOFFSETTO:-0500
RDATE:20200308T020000
RDATE:20210314T020000
END:DAYLIGHT
END:VTIMEZONE
BEGIN:VEVENT
UID:6653387e-1ffe-4df4-94a6-552acc7f33a6
DTSTAMP:20260420T132329Z
DESCRIPTION:This training will help providers determine when it is and isn’
 t appropriate to do group therapy with youth.  Providers will also learn i
 nteractive group techniques  that will create more engagement within the g
 roup setting and elicit effective experiences for group members.  Particip
 ants will  have the opportunity to view and practice effective skills and 
 techniques for working with youth in a group setting.\n
DTSTART;TZID=America/Chicago:20190913T083000
DTEND;TZID=America/Chicago:20190913T120000
LOCATION:LMEP\, 4600 Valley Road\, Lincoln\, NE
SUMMARY:Group Counseling for Youth:  Tips and Techniques
END:VEVENT
END:VCALENDAR
