BEGIN:VCALENDAR
VERSION:2.0
PRODID:-//scipnebraska.com//NONSGML kigkonsult.se iCalcreator 2.30.10//
CALSCALE:GREGORIAN
METHOD:PUBLISH
UID:4ac2d451-8779-42e6-8154-d155f2ae11bf
X-WR-CALDESC:
X-WR-RELCALID:d8166337176d078fe00031a3bac6e734
X-WR-TIMEZONE:America/Chicago
BEGIN:VTIMEZONE
TZID:America/Chicago
BEGIN:STANDARD
TZNAME:CST
DTSTART:20181104T020000
TZOFFSETFROM:-0500
TZOFFSETTO:-0600
RDATE:20191103T020000
RDATE:20201101T020000
END:STANDARD
BEGIN:DAYLIGHT
TZNAME:CDT
DTSTART:20190310T020000
TZOFFSETFROM:-0600
TZOFFSETTO:-0500
RDATE:20200308T020000
END:DAYLIGHT
END:VTIMEZONE
BEGIN:VEVENT
UID:b2a7fef3-bb32-4958-84b3-fda4bd2cfdc4
DTSTAMP:20260420T133231Z
DESCRIPTION:
DTSTART;TZID=America/Chicago:20190905T140000
DTEND;TZID=America/Chicago:20190905T150000
LOCATION:
SUMMARY:SCIP Team Leader Meeting
END:VEVENT
END:VCALENDAR
