BEGIN:VCALENDAR
VERSION:2.0
PRODID:-//scipnebraska.com//NONSGML kigkonsult.se iCalcreator 2.30.10//
CALSCALE:GREGORIAN
METHOD:PUBLISH
UID:5b01826f-3b49-44a7-9c98-6fdaf4cea913
X-WR-CALDESC:Community Cone Cares (Ivanna Cone) has a created a flavor of i
 ce cream in honor of SCIP\, called 'SCIP To My Lou'\, which is buttermilk 
 ice cream with bites of blueberry pie and sprinkles. A portion of the sale
 s from 'SCIP To My Lou' throughout the month of March will go to SCIP. The
 n on March 26th from 5:00-9:00 PM 10% of all sales will go directly to SCI
 P. Please help support SCIP at Ivanna Cone through out the month of March!
X-WR-RELCALID:9a8ed5b2b71b10a04e6dd0083a0cb83d
X-WR-TIMEZONE:America/Chicago
BEGIN:VTIMEZONE
TZID:America/Chicago
BEGIN:STANDARD
TZNAME:CST
DTSTART:20181104T020000
TZOFFSETFROM:-0500
TZOFFSETTO:-0600
RDATE:20191103T020000
END:STANDARD
BEGIN:DAYLIGHT
TZNAME:CDT
DTSTART:20190310T020000
TZOFFSETFROM:-0600
TZOFFSETTO:-0500
RDATE:20200308T020000
END:DAYLIGHT
END:VTIMEZONE
BEGIN:VEVENT
UID:f2fab409-dd69-4abe-83bc-3902f3008370
DTSTAMP:20260420T224617Z
DESCRIPTION:Community Cone Cares (Ivanna Cone) has a created a flavor of ic
 e cream in honor of SCIP\, called 'SCIP To My Lou'\, which is buttermilk i
 ce cream with bites of blueberry pie and sprinkles. A portion of the sales
  from 'SCIP To My Lou' throughout the month of March will go to SCIP. Then
  on March 26th from 5:00-9:00 PM 10% of all sales will go directly to SCIP
 . Please help support SCIP at Ivanna Cone through out the month of March!
DTSTART;TZID=America/Chicago:20190326T170000
DTEND;TZID=America/Chicago:20190326T210000
LOCATION:701 P St #101\, Lincoln\, NE 68508
SUMMARY:Ivanna Cone Community Cone Cares Event
END:VEVENT
END:VCALENDAR
