BEGIN:VCALENDAR
VERSION:2.0
PRODID:-//scipnebraska.com//NONSGML kigkonsult.se iCalcreator 2.30.10//
CALSCALE:GREGORIAN
METHOD:PUBLISH
UID:dc347cc0-86cc-43f0-b5db-0d426e1efbcb
X-WR-CALDESC:Topic: Human Trafficking and Our Youth\n\nPresentation: \nStep
 hanie Olson is a speaker\, author and the CEO/President of The Set Me Free
  Project.  Stephanie has extensive experience in the study of human traffi
 cking prevention education and social media safety.  In her presentation\,
  “Sex Trafficking and Our Youth”\, she will share the following: \n\n•	Iden
 tify what human trafficking and sex trafficking is.\n•	Discuss what factors
  make individuals the most vulnerable to sex trafficking and what the groo
 ming process is and how it is used by traffickers. \n•	What dangers are pre
 sent on social media sites and gaming platforms.\n•	Learn how to spot a tra
 fficking victim and what to do when you see a trafficking victim. \n•	Learn
  how we can prevent our youth from becoming victims of sex trafficking.\n
 \nOur youth are our future’s greatest asset.  Schools\, parents\, caregive
 rs and communities all play a role in providing supportive pathways for ou
 r youth as they navigate childhood and adolescence.  SCIP (School Communit
 y Intervention and Prevention) is partnering with Lincoln Public Schools\,
  Bryan Independence Center and the Lancaster Prevention Coalition to put o
 n a series of valuable presentations about how to support the health and w
 ell-being of our community’s youth.  These events are open to parents\, st
 udents\, school professionals and community members.
X-WR-RELCALID:05ae2e59e75eeb6f84926e11c4a354bb
X-WR-TIMEZONE:America/Chicago
BEGIN:VTIMEZONE
TZID:America/Chicago
BEGIN:STANDARD
TZNAME:CST
DTSTART:20181104T020000
TZOFFSETFROM:-0500
TZOFFSETTO:-0600
RDATE:20191103T020000
END:STANDARD
BEGIN:DAYLIGHT
TZNAME:CDT
DTSTART:20180311T020000
TZOFFSETFROM:-0600
TZOFFSETTO:-0500
RDATE:20190310T020000
RDATE:20200308T020000
END:DAYLIGHT
END:VTIMEZONE
BEGIN:VEVENT
UID:8c5643a5-23f5-4610-8032-7277cd0a84fa
DTSTAMP:20260421T001401Z
DESCRIPTION:Topic: Human Trafficking and Our Youth\n\nPresentation: \nSteph
 anie Olson is a speaker\, author and the CEO/President of The Set Me Free 
 Project.  Stephanie has extensive experience in the study of human traffic
 king prevention education and social media safety.  In her presentation\, 
 “Sex Trafficking and Our Youth”\, she will share the following: \n\n•	Ident
 ify what human trafficking and sex trafficking is.\n•	Discuss what factors 
 make individuals the most vulnerable to sex trafficking and what the groom
 ing process is and how it is used by traffickers. \n•	What dangers are pres
 ent on social media sites and gaming platforms.\n•	Learn how to spot a traf
 ficking victim and what to do when you see a trafficking victim. \n•	Learn 
 how we can prevent our youth from becoming victims of sex trafficking.\n\n
 Our youth are our future’s greatest asset.  Schools\, parents\, caregivers
  and communities all play a role in providing supportive pathways for our 
 youth as they navigate childhood and adolescence.  SCIP (School Community 
 Intervention and Prevention) is partnering with Lincoln Public Schools\, B
 ryan Independence Center and the Lancaster Prevention Coalition to put on 
 a series of valuable presentations about how to support the health and wel
 l-being of our community’s youth.  These events are open to parents\, stud
 ents\, school professionals and community members.
DTSTART;TZID=America/Chicago:20190228T183000
DTEND;TZID=America/Chicago:20190228T200000
LOCATION:Scott Middle School: Multipurpose Room
SUMMARY:Community Awareness Series: Promoting Healthy Behaviors
END:VEVENT
END:VCALENDAR
