BEGIN:VCALENDAR
VERSION:2.0
PRODID:-//scipnebraska.com//NONSGML kigkonsult.se iCalcreator 2.30.10//
CALSCALE:GREGORIAN
METHOD:PUBLISH
UID:c7721cc6-e77d-40be-bbb4-d7ee9065b5d9
X-WR-CALDESC:Topic: The Impact of Stress & Anxiety on Our Youth\n\nPresenta
 tion: \nMelissa Lafferty is a therapist with Nebraska Mental Health Center
 s.  She works with children and adolescents of all ages.  Melissa will dis
 cuss the difference between stress and anxiety and the impact that both ha
 ve on children and adolescents.  The influence of social media on stress a
 nd anxiety in today’s youth will also be addressed and the role teachers a
 nd parents can play to help support youth by promoting positive coping tec
 hniques and problem solving skills. \n\nOur youth are our future’s greates
 t asset.  Schools\, parents\, caregivers and communities all play a role i
 n providing supportive pathways for our youth as they navigate childhood a
 nd adolescence.  SCIP (School Community Intervention and Prevention) is pa
 rtnering with Lincoln Public Schools\, Bryan Independence Center and the L
 ancaster Prevention Coalition to put on a series of valuable presentations
  about how to support the health and well-being of our community’s youth. 
  These events are open to parents\, students\, school professionals and co
 mmunity members.
X-WR-RELCALID:c7ab9a627aed493d409eafe8765ee8a7
X-WR-TIMEZONE:America/Chicago
BEGIN:VTIMEZONE
TZID:America/Chicago
BEGIN:STANDARD
TZNAME:CST
DTSTART:20181104T020000
TZOFFSETFROM:-0500
TZOFFSETTO:-0600
RDATE:20191103T020000
END:STANDARD
BEGIN:DAYLIGHT
TZNAME:CDT
DTSTART:20180311T020000
TZOFFSETFROM:-0600
TZOFFSETTO:-0500
RDATE:20190310T020000
RDATE:20200308T020000
END:DAYLIGHT
END:VTIMEZONE
BEGIN:VEVENT
UID:719206e7-f10f-4798-bc4e-9982f93bd35a
DTSTAMP:20260421T051931Z
DESCRIPTION:Topic: The Impact of Stress & Anxiety on Our Youth\n\nPresentat
 ion: \nMelissa Lafferty is a therapist with Nebraska Mental Health Centers
 .  She works with children and adolescents of all ages.  Melissa will disc
 uss the difference between stress and anxiety and the impact that both hav
 e on children and adolescents.  The influence of social media on stress an
 d anxiety in today’s youth will also be addressed and the role teachers an
 d parents can play to help support youth by promoting positive coping tech
 niques and problem solving skills. \n\nOur youth are our future’s greatest
  asset.  Schools\, parents\, caregivers and communities all play a role in
  providing supportive pathways for our youth as they navigate childhood an
 d adolescence.  SCIP (School Community Intervention and Prevention) is par
 tnering with Lincoln Public Schools\, Bryan Independence Center and the La
 ncaster Prevention Coalition to put on a series of valuable presentations 
 about how to support the health and well-being of our community’s youth.  
 These events are open to parents\, students\, school professionals and com
 munity members.
DTSTART;TZID=America/Chicago:20181113T183000
DTEND;TZID=America/Chicago:20181113T200000
LOCATION:Lincoln High School: Theatre
SUMMARY:Community Awareness Series: Promoting Healthy Behaviors
END:VEVENT
END:VCALENDAR
