BEGIN:VCALENDAR
VERSION:2.0
PRODID:-//scipnebraska.com//NONSGML kigkonsult.se iCalcreator 2.30.10//
CALSCALE:GREGORIAN
METHOD:PUBLISH
UID:7e50ffec-8949-4379-ae26-09c0d3ac7a94
X-WR-CALDESC:This training will provide you with the tools needed to recogn
 ize warning signs of at-risk behaviors and the ability to develop an appro
 priate plan to assist the student and his or her family through the proces
 s of getting the help they need.\nThis workshop is for new SCIP teams\, ne
 w members joining existing SCIP teams\, as a refresher for long-time team 
 members\, or for any other interested community member.\n\nTopics Include:
 \nFamily Engagement\nTeen Dating Violence\nInternalizing Behaviors\nSubsta
 nces of Abuse and Addiction\nYouth Mental Health\nGang Prevention \nand mo
 re!\n\nTo register for the training\, please use the registration forms be
 low.
X-WR-RELCALID:a0c6c11b9009ecee21dc0873eaf914b1
X-WR-TIMEZONE:America/Chicago
BEGIN:VTIMEZONE
TZID:America/Chicago
BEGIN:STANDARD
TZNAME:CST
DTSTART:20171105T020000
TZOFFSETFROM:-0500
TZOFFSETTO:-0600
RDATE:20181104T020000
RDATE:20191103T020000
END:STANDARD
BEGIN:DAYLIGHT
TZNAME:CDT
DTSTART:20180311T020000
TZOFFSETFROM:-0600
TZOFFSETTO:-0500
RDATE:20190310T020000
END:DAYLIGHT
END:VTIMEZONE
BEGIN:VEVENT
UID:f180ce36-8204-4359-8bd6-1c820f83b832
DTSTAMP:20260423T125800Z
DESCRIPTION:This training will provide you with the tools needed to recogni
 ze warning signs of at-risk behaviors and the ability to develop an approp
 riate plan to assist the student and his or her family through the process
  of getting the help they need.\nThis workshop is for new SCIP teams\, new
  members joining existing SCIP teams\, as a refresher for long-time team m
 embers\, or for any other interested community member.\n\nTopics Include:
 \nFamily Engagement\nTeen Dating Violence\nInternalizing Behaviors\nSubsta
 nces of Abuse and Addiction\nYouth Mental Health\nGang Prevention \nand mo
 re!\n\nTo register for the training\, please use the registration forms be
 low.
DTSTART;TZID=America/Chicago:20180710T080000
DTEND;TZID=America/Chicago:20180713T143000
LOCATION:Lincoln\, NE
SUMMARY:SCIP Intervention and Prevention Training
END:VEVENT
END:VCALENDAR
