BEGIN:VCALENDAR
VERSION:2.0
PRODID:-//scipnebraska.com//NONSGML kigkonsult.se iCalcreator 2.30.10//
CALSCALE:GREGORIAN
METHOD:PUBLISH
UID:66355c70-87e4-4228-a4e0-cd971da601d7
X-WR-CALDESC:Presentation: Protecting our youth from at-risk behaviors\, su
 ch as substance use\, takes a community of support.  One of the best ways 
 we can help our kids make healthy choices is to stay informed and be aware
  of issues that may adversely affect the lives of our youth.  \nAmanda Mil
 ler\, manager of the underage drinking prevention programs for Mothers aga
 inst Drunk Driving (MADD) will share the Power of Parents Presentation.  M
 ADD’s Power of Parents program empowers parents of middle school and high 
 school students to have ongoing\, intentional conversations about the dang
 ers and consequences of underage drinking.  Abbe Edgecombe\, SCIP Coordina
 tor for Lincoln/Lancaster County will also share information on emerging y
 outh drug trends in an effort to raise awareness of specific substances of
  abuse\, recognition of drug paraphernalia (including products created spe
 cifically to help youth disguise or hide substances of abuse) and the role
  of awareness\, education and community supports in youth substance use pr
 evention.  \n\n*Due to the nature of the presentation topic\, it may not b
 e appropriate for youth to attend. \n\nCommunity members\, parents and sch
 ool personnel are encouraged to attend.  \n\nSponsors and Community Partne
 rs: Lincoln Public Schools\, Bryan Independence Center and Lancaster Preve
 ntion Coalition.
X-WR-RELCALID:5a72f4154c709bc0c1e1388d3da4545b
X-WR-TIMEZONE:America/Chicago
BEGIN:VTIMEZONE
TZID:America/Chicago
BEGIN:STANDARD
TZNAME:CST
DTSTART:20171105T020000
TZOFFSETFROM:-0500
TZOFFSETTO:-0600
RDATE:20181104T020000
END:STANDARD
BEGIN:DAYLIGHT
TZNAME:CDT
DTSTART:20180311T020000
TZOFFSETFROM:-0600
TZOFFSETTO:-0500
RDATE:20190310T020000
END:DAYLIGHT
END:VTIMEZONE
BEGIN:VEVENT
UID:6240e31d-649b-4cc8-bc20-91860b0e3275
DTSTAMP:20260423T182514Z
DESCRIPTION:Presentation: Protecting our youth from at-risk behaviors\, suc
 h as substance use\, takes a community of support.  One of the best ways w
 e can help our kids make healthy choices is to stay informed and be aware 
 of issues that may adversely affect the lives of our youth.  \nAmanda Mill
 er\, manager of the underage drinking prevention programs for Mothers agai
 nst Drunk Driving (MADD) will share the Power of Parents Presentation.  MA
 DD’s Power of Parents program empowers parents of middle school and high s
 chool students to have ongoing\, intentional conversations about the dange
 rs and consequences of underage drinking.  Abbe Edgecombe\, SCIP Coordinat
 or for Lincoln/Lancaster County will also share information on emerging yo
 uth drug trends in an effort to raise awareness of specific substances of 
 abuse\, recognition of drug paraphernalia (including products created spec
 ifically to help youth disguise or hide substances of abuse) and the role 
 of awareness\, education and community supports in youth substance use pre
 vention.  \n\n*Due to the nature of the presentation topic\, it may not be
  appropriate for youth to attend. \n\nCommunity members\, parents and scho
 ol personnel are encouraged to attend.  \n\nSponsors and Community Partner
 s: Lincoln Public Schools\, Bryan Independence Center and Lancaster Preven
 tion Coalition.
DTSTART;TZID=America/Chicago:20180426T183000
DTEND;TZID=America/Chicago:20180426T200000
LOCATION:Lincoln North Star High School
SUMMARY:Community Awareness Series: Promoting Healthy Behaviors
END:VEVENT
END:VCALENDAR
