BEGIN:VCALENDAR
VERSION:2.0
PRODID:-//scipnebraska.com//NONSGML kigkonsult.se iCalcreator 2.30.10//
CALSCALE:GREGORIAN
METHOD:PUBLISH
UID:ebbb458e-d531-4407-812d-0fcc36ce861e
X-WR-CALDESC:SCIP Annual Conference\n\nKeynote Speaker: Justin Patchin\, Ph
 . D.\nDr. Patchin is a professor at the University of Wisconsin-Eau Claire
  and Co-Director of the Cyberbullying Research Center. He has written eigh
 t books including\, 'Bullying Today: Bullet Points and Best Practices'\, w
 hich was released in May of 2016.\n\nTo view the complete details\, click 
 on the 'Registration Form' link below.
X-WR-RELCALID:0020f841f273cff1d2cc4f4adee870c3
X-WR-TIMEZONE:America/Chicago
BEGIN:VTIMEZONE
TZID:America/Chicago
BEGIN:STANDARD
TZNAME:CST
DTSTART:20171105T020000
TZOFFSETFROM:-0500
TZOFFSETTO:-0600
RDATE:20181104T020000
END:STANDARD
BEGIN:DAYLIGHT
TZNAME:CDT
DTSTART:20180311T020000
TZOFFSETFROM:-0600
TZOFFSETTO:-0500
RDATE:20190310T020000
END:DAYLIGHT
END:VTIMEZONE
BEGIN:VEVENT
UID:e7dbbcea-95ec-4bb6-9fb4-8327af1c257d
DTSTAMP:20260423T200114Z
DESCRIPTION:SCIP Annual Conference\n\nKeynote Speaker: Justin Patchin\, Ph.
  D.\nDr. Patchin is a professor at the University of Wisconsin-Eau Claire 
 and Co-Director of the Cyberbullying Research Center. He has written eight
  books including\, 'Bullying Today: Bullet Points and Best Practices'\, wh
 ich was released in May of 2016.\n\nTo view the complete details\, click o
 n the 'Registration Form' link below.
DTSTART;TZID=America/Chicago:20180322T080000
DTEND;TZID=America/Chicago:20180322T153000
LOCATION:Lincoln Firefighter's Reception Hall
SUMMARY:Raising Kids in a Digital World: The Influence of Technology on Our
  Youth
END:VEVENT
END:VCALENDAR
