BEGIN:VCALENDAR
VERSION:2.0
PRODID:-//scipnebraska.com//NONSGML kigkonsult.se iCalcreator 2.30.10//
CALSCALE:GREGORIAN
METHOD:PUBLISH
UID:0655cc04-e5e6-4668-a7db-acc5b2be1ad3
X-WR-CALDESC:Presentation Topic: Healthy Relationships\n\nSue Andersen is t
 he Community Education Coordinator and an Advocate at Voices of Hope.  She
  has trained numerous first responders and gatekeepers on domestic and sex
 ual violence and provided hundreds of awareness presentations throughout L
 incoln/Lancaster County. Relationships contribute to the development of ou
 r youth. Friends\, dating partners\, parents/caregivers\, teachers\, coach
 es and other caring adults are often sources of support for youth.  Charac
 teristics such as\, mutual respect\, compromise\, good communication and t
 rust are all essential elements of a healthy relationship.  Unsafe or unhe
 althy relationships can result in boundary issues\, bullying or dating vio
 lence. Sue’s presentation will provide education\, tools and resources as 
 to how to best guide our children and adolescents in healthy and safe rela
 tionship development.  \n\nCommunity members\, parents and school personne
 l are encouraged to attend.  \n\nSponsors and Community Partners: Lincoln 
 Public Schools\, Bryan Independence Center and Lancaster Prevention Coalit
 ion.
X-WR-RELCALID:f8ba4316bb1f51a713d7f5d719ff68b4
X-WR-TIMEZONE:America/Chicago
BEGIN:VTIMEZONE
TZID:America/Chicago
BEGIN:STANDARD
TZNAME:CST
DTSTART:20171105T020000
TZOFFSETFROM:-0500
TZOFFSETTO:-0600
RDATE:20181104T020000
END:STANDARD
BEGIN:DAYLIGHT
TZNAME:CDT
DTSTART:20170312T020000
TZOFFSETFROM:-0600
TZOFFSETTO:-0500
RDATE:20180311T020000
RDATE:20190310T020000
END:DAYLIGHT
END:VTIMEZONE
BEGIN:VEVENT
UID:a9e04eb4-de34-45d5-a187-be1735bc3ba2
DTSTAMP:20260423T214804Z
DESCRIPTION:Presentation Topic: Healthy Relationships\n\nSue Andersen is th
 e Community Education Coordinator and an Advocate at Voices of Hope.  She 
 has trained numerous first responders and gatekeepers on domestic and sexu
 al violence and provided hundreds of awareness presentations throughout Li
 ncoln/Lancaster County. Relationships contribute to the development of our
  youth. Friends\, dating partners\, parents/caregivers\, teachers\, coache
 s and other caring adults are often sources of support for youth.  Charact
 eristics such as\, mutual respect\, compromise\, good communication and tr
 ust are all essential elements of a healthy relationship.  Unsafe or unhea
 lthy relationships can result in boundary issues\, bullying or dating viol
 ence. Sue’s presentation will provide education\, tools and resources as t
 o how to best guide our children and adolescents in healthy and safe relat
 ionship development.  \n\nCommunity members\, parents and school personnel
  are encouraged to attend.  \n\nSponsors and Community Partners: Lincoln P
 ublic Schools\, Bryan Independence Center and Lancaster Prevention Coaliti
 on.
DTSTART;TZID=America/Chicago:20180227T183000
DTEND;TZID=America/Chicago:20180227T200000
LOCATION:Lincoln Southwest High School
SUMMARY:Community Awareness Series: Promoting Healthy Behaviors
END:VEVENT
END:VCALENDAR
