BEGIN:VCALENDAR
VERSION:2.0
PRODID:-//scipnebraska.com//NONSGML kigkonsult.se iCalcreator 2.30.10//
CALSCALE:GREGORIAN
METHOD:PUBLISH
UID:b4386e3c-e5f9-4cb0-8a4d-cf31d3a05ebe
X-WR-CALDESC:Presentation Topic: Promoting Student Mental Health \n\nCommun
 ity members\, parents and school personnel are encouraged to attend.  \n\n
 Sponsors and Community Partners: Lincoln Public Schools\, Bryan Independen
 ce Center and Lancaster Prevention Coalition.
X-WR-RELCALID:f97b6db9d2da3fe3ce8d8785e5970efa
X-WR-TIMEZONE:America/Chicago
BEGIN:VTIMEZONE
TZID:America/Chicago
BEGIN:STANDARD
TZNAME:CST
DTSTART:20161106T020000
TZOFFSETFROM:-0500
TZOFFSETTO:-0600
RDATE:20171105T020000
RDATE:20181104T020000
END:STANDARD
BEGIN:DAYLIGHT
TZNAME:CDT
DTSTART:20170312T020000
TZOFFSETFROM:-0600
TZOFFSETTO:-0500
RDATE:20180311T020000
RDATE:20190310T020000
END:DAYLIGHT
END:VTIMEZONE
BEGIN:VEVENT
UID:aa80741e-4ddd-4bf4-9236-aa753b473d70
DTSTAMP:20260424T055049Z
DESCRIPTION:Presentation Topic: Promoting Student Mental Health \n\nCommuni
 ty members\, parents and school personnel are encouraged to attend.  \n\nS
 ponsors and Community Partners: Lincoln Public Schools\, Bryan Independenc
 e Center and Lancaster Prevention Coalition.
DTSTART;TZID=America/Chicago:20170926T183000
DTEND;TZID=America/Chicago:20170926T200000
LOCATION:Lux Middle School
SUMMARY:Community Awareness Series: Promoting Healthy Behaviors
END:VEVENT
END:VCALENDAR
