BEGIN:VCALENDAR
VERSION:2.0
PRODID:-//scipnebraska.com//NONSGML kigkonsult.se iCalcreator 2.30.10//
CALSCALE:GREGORIAN
METHOD:PUBLISH
UID:27b2d591-4b6f-44b1-ba74-11336b4d8523
X-WR-CALDESC:This training will provide you with the tools needed to recogn
 ize warning signs of at-risk behaviors and the ability to develop an appro
 priate plan to assist the student and his or her family through the proces
 s of getting the help they need.\nThis workshop is for new SCIP teams\, ne
 w members joining existing SCIP teams\, as a refresher for long-time team 
 members\, or for any other interested community member.\n\nTopics Include:
 \nFamily Engagement\nTeen Dating Violence\nGrief\nChildhood Trauma\nIntern
 alizing Behaviors\nSubstances of Abuse and Addiction\nYouth Mental Health
 \nand more!\n\nTo register for the training\, please use the registration 
 forms below.
X-WR-RELCALID:2c7004d665072aeb28eab60c90062827
X-WR-TIMEZONE:America/Chicago
BEGIN:VTIMEZONE
TZID:America/Chicago
BEGIN:STANDARD
TZNAME:CST
DTSTART:20161106T020000
TZOFFSETFROM:-0500
TZOFFSETTO:-0600
RDATE:20171105T020000
RDATE:20181104T020000
END:STANDARD
BEGIN:DAYLIGHT
TZNAME:CDT
DTSTART:20170312T020000
TZOFFSETFROM:-0600
TZOFFSETTO:-0500
RDATE:20180311T020000
END:DAYLIGHT
END:VTIMEZONE
BEGIN:VEVENT
UID:e79721a0-75b8-4fde-83ad-db513e8c7a09
DTSTAMP:20260424T084803Z
DESCRIPTION:This training will provide you with the tools needed to recogni
 ze warning signs of at-risk behaviors and the ability to develop an approp
 riate plan to assist the student and his or her family through the process
  of getting the help they need.\nThis workshop is for new SCIP teams\, new
  members joining existing SCIP teams\, as a refresher for long-time team m
 embers\, or for any other interested community member.\n\nTopics Include:
 \nFamily Engagement\nTeen Dating Violence\nGrief\nChildhood Trauma\nIntern
 alizing Behaviors\nSubstances of Abuse and Addiction\nYouth Mental Health
 \nand more!\n\nTo register for the training\, please use the registration 
 forms below.
DTSTART;TZID=America/Chicago:20170711T080000
DTEND;TZID=America/Chicago:20170714T143000
LOCATION:Lincoln\, NE
SUMMARY:SCIP Intervention and Prevention Training
END:VEVENT
END:VCALENDAR
