BEGIN:VCALENDAR
VERSION:2.0
PRODID:-//scipnebraska.com//NONSGML kigkonsult.se iCalcreator 2.30.10//
CALSCALE:GREGORIAN
METHOD:PUBLISH
UID:300bd968-f43d-47c4-9d87-fa8858d9e08e
X-WR-CALDESC:This three-day training will provide the tools needed to recog
 nize warning signs of at-risk behaviors in students and the ability to dev
 elop an appropriate plan to assist the student and his or her family throu
 gh the process of getting the help they need. This workshop is for new SCI
 P teams\, new members joining  existing SCIP teams\, as a refresher for lo
 ng-time team members or for any other interested community member. Each da
 y consists of four presentations by local expects on various mental health
  concerns and substance abuse trends. To view the full schedule and for ad
 ditional information about the event please view the registration forms be
 low.
X-WR-RELCALID:7b4e22c6139658c95f8cb0dc82f9c3c8
X-WR-TIMEZONE:America/Chicago
BEGIN:VTIMEZONE
TZID:America/Chicago
BEGIN:STANDARD
TZNAME:CST
DTSTART:20161106T020000
TZOFFSETFROM:-0500
TZOFFSETTO:-0600
RDATE:20171105T020000
RDATE:20181104T020000
END:STANDARD
BEGIN:DAYLIGHT
TZNAME:CDT
DTSTART:20170312T020000
TZOFFSETFROM:-0600
TZOFFSETTO:-0500
RDATE:20180311T020000
END:DAYLIGHT
END:VTIMEZONE
BEGIN:VEVENT
UID:12710007-1e4f-46c8-85dc-f5e066329be1
DTSTAMP:20260424T105548Z
DESCRIPTION:This three-day training will provide the tools needed to recogn
 ize warning signs of at-risk behaviors in students and the ability to deve
 lop an appropriate plan to assist the student and his or her family throug
 h the process of getting the help they need. This workshop is for new SCIP
  teams\, new members joining  existing SCIP teams\, as a refresher for lon
 g-time team members or for any other interested community member. Each day
  consists of four presentations by local expects on various mental health 
 concerns and substance abuse trends. To view the full schedule and for add
 itional information about the event please view the registration forms bel
 ow.
DTSTART;TZID=America/Chicago:20170613T080000
DTEND;TZID=America/Chicago:20170615T163000
LOCATION:Region 4 Behavioral Health System\, Norfolk\, NE
SUMMARY:SCIP Intervention & Prevention Training
END:VEVENT
END:VCALENDAR
