BEGIN:VCALENDAR
VERSION:2.0
PRODID:-//scipnebraska.com//NONSGML kigkonsult.se iCalcreator 2.30.10//
CALSCALE:GREGORIAN
METHOD:PUBLISH
UID:7b8ceed5-2fa8-4aa1-88c2-e06b6d6ae7e4
X-WR-CALDESC:
X-WR-RELCALID:d3b2ee99e402c845f2e39ff83dbfdefd
X-WR-TIMEZONE:America/Chicago
BEGIN:VTIMEZONE
TZID:America/Chicago
BEGIN:STANDARD
TZNAME:CST
DTSTART:20161106T020000
TZOFFSETFROM:-0500
TZOFFSETTO:-0600
RDATE:20171105T020000
RDATE:20181104T020000
END:STANDARD
BEGIN:DAYLIGHT
TZNAME:CDT
DTSTART:20170312T020000
TZOFFSETFROM:-0600
TZOFFSETTO:-0500
RDATE:20180311T020000
END:DAYLIGHT
END:VTIMEZONE
BEGIN:VEVENT
UID:55c2f32b-9c84-4714-9294-fb03be6e27a6
DTSTAMP:20260424T122306Z
DESCRIPTION:
DTSTART;TZID=America/Chicago:20170513T080000
DTEND;TZID=America/Chicago:20170513T110000
LOCATION:Lincoln Southwest High School
SUMMARY:Hop\, SCIP\, Jump and Run
END:VEVENT
END:VCALENDAR
