BEGIN:VCALENDAR
VERSION:2.0
PRODID:-//scipnebraska.com//NONSGML kigkonsult.se iCalcreator 2.30.10//
CALSCALE:GREGORIAN
METHOD:PUBLISH
UID:16c9dd51-db6d-4a35-8925-eb21aafde30b
X-WR-CALDESC:Marijuana continues to be one of the most prevalent substances
  of abuse among our youth.  The purpose of this forum is to increase aware
 ness of trends in use by adolescents\, the effects of marijuana use on a y
 outh's developing brain\, the increase in potency of marijuana\, new modes
  of delivery and mixed messages our youth are receiving surrounding legali
 zation and the medicinal use of marijuana. \n\nPresentation/Discussion Pan
 el\nDeputy Jeremy Schwarz with the Lancaster County Sheriff's office will 
 be presenting.  As a Certified Drug Recognition Expert (DRE)\, Deputy Schw
 arz has a great deal of experience in drug enforcement and evaluation as w
 ell as in training professionals.  A discussion panel comprised of represe
 ntatives from the treatment community\, law enforcement\, schools\, the me
 dical field and prevention will follow. \n
X-WR-RELCALID:40d7fe6a0e9d92f159cc7d259a0b4d78
X-WR-TIMEZONE:America/Chicago
BEGIN:VTIMEZONE
TZID:America/Chicago
BEGIN:STANDARD
TZNAME:CST
DTSTART:20161106T020000
TZOFFSETFROM:-0500
TZOFFSETTO:-0600
RDATE:20171105T020000
END:STANDARD
BEGIN:DAYLIGHT
TZNAME:CDT
DTSTART:20170312T020000
TZOFFSETFROM:-0600
TZOFFSETTO:-0500
RDATE:20180311T020000
END:DAYLIGHT
END:VTIMEZONE
BEGIN:VEVENT
UID:4b8a40b5-11fe-42f3-9e17-35eed1ec1b1b
DTSTAMP:20260424T135527Z
DESCRIPTION:Marijuana continues to be one of the most prevalent substances 
 of abuse among our youth.  The purpose of this forum is to increase awaren
 ess of trends in use by adolescents\, the effects of marijuana use on a yo
 uth's developing brain\, the increase in potency of marijuana\, new modes 
 of delivery and mixed messages our youth are receiving surrounding legaliz
 ation and the medicinal use of marijuana. \n\nPresentation/Discussion Pane
 l\nDeputy Jeremy Schwarz with the Lancaster County Sheriff's office will b
 e presenting.  As a Certified Drug Recognition Expert (DRE)\, Deputy Schwa
 rz has a great deal of experience in drug enforcement and evaluation as we
 ll as in training professionals.  A discussion panel comprised of represen
 tatives from the treatment community\, law enforcement\, schools\, the med
 ical field and prevention will follow. \n
DTSTART;TZID=America/Chicago:20170411T183000
DTEND;TZID=America/Chicago:20170411T200000
LOCATION:Lincoln Southeast High School (Commons Area)
SUMMARY:Community Forum on Youth Marijuana Use
END:VEVENT
END:VCALENDAR
