BEGIN:VCALENDAR
VERSION:2.0
PRODID:-//scipnebraska.com//NONSGML kigkonsult.se iCalcreator 2.30.10//
CALSCALE:GREGORIAN
METHOD:PUBLISH
UID:63ecc77f-be20-492f-aae3-731e33f1d654
X-WR-CALDESC:'Embracing Our Differences: Creating a Culturally Accepting Sc
 hool Environment' featuring  keynote speaker Ryan Sallans. Sallans will\ng
 ive a presentation titled\,  'Creating Equitable and Affirming School Envi
 ronments for LGBTQ Youth'.\n\nOther Presentation Topics Include:\n*Approac
 hes to Meet the Mental\, Emotional and Behavioral Health Needs of Immigran
 t and Refugee Students\n*Ways Schools Can Provide a Supportive Environment
  for Low-Income and Homeless Families\n*Strategies to Promote an Accepting
  Environment for LGBTQ Students (Panel Presentation)\n
X-WR-RELCALID:c27a10191f5116d2a162f4da9a977b36
X-WR-TIMEZONE:America/Chicago
BEGIN:VTIMEZONE
TZID:America/Chicago
BEGIN:STANDARD
TZNAME:CST
DTSTART:20161106T020000
TZOFFSETFROM:-0500
TZOFFSETTO:-0600
RDATE:20171105T020000
END:STANDARD
BEGIN:DAYLIGHT
TZNAME:CDT
DTSTART:20170312T020000
TZOFFSETFROM:-0600
TZOFFSETTO:-0500
RDATE:20180311T020000
END:DAYLIGHT
END:VTIMEZONE
BEGIN:VEVENT
UID:d19aaf19-34e5-47d0-9689-7ddf424a1888
DTSTAMP:20260424T153137Z
DESCRIPTION:'Embracing Our Differences: Creating a Culturally Accepting Sch
 ool Environment' featuring  keynote speaker Ryan Sallans. Sallans will\ngi
 ve a presentation titled\,  'Creating Equitable and Affirming School Envir
 onments for LGBTQ Youth'.\n\nOther Presentation Topics Include:\n*Approach
 es to Meet the Mental\, Emotional and Behavioral Health Needs of Immigrant
  and Refugee Students\n*Ways Schools Can Provide a Supportive Environment 
 for Low-Income and Homeless Families\n*Strategies to Promote an Accepting 
 Environment for LGBTQ Students (Panel Presentation)\n
DTSTART;TZID=America/Chicago:20170328T080000
DTEND;TZID=America/Chicago:20170328T163000
LOCATION:1600 S. 48th Street Lincoln\, NE
SUMMARY:SCIP Spring Conference
END:VEVENT
END:VCALENDAR
