BEGIN:VCALENDAR
VERSION:2.0
PRODID:-//scipnebraska.com//NONSGML kigkonsult.se iCalcreator 2.30.10//
CALSCALE:GREGORIAN
METHOD:PUBLISH
UID:6059e2e7-fc5e-488f-b06c-26a8fd885bd4
X-WR-CALDESC:
X-WR-RELCALID:fd30c6ce3d7dfb1dfcf8c76565c443ee
X-WR-TIMEZONE:America/Chicago
BEGIN:VTIMEZONE
TZID:America/Chicago
BEGIN:STANDARD
TZNAME:CST
DTSTART:20161106T020000
TZOFFSETFROM:-0500
TZOFFSETTO:-0600
RDATE:20171105T020000
END:STANDARD
BEGIN:DAYLIGHT
TZNAME:CDT
DTSTART:20160313T020000
TZOFFSETFROM:-0600
TZOFFSETTO:-0500
RDATE:20170312T020000
RDATE:20180311T020000
END:DAYLIGHT
END:VTIMEZONE
BEGIN:VEVENT
UID:502d3cbf-1235-4497-ba88-4876f4fdc640
DTSTAMP:20260424T221629Z
DESCRIPTION:
DTSTART;TZID=America/Chicago:20161103T140000
DTEND;TZID=America/Chicago:20161103T150000
LOCATION:4600 Valley Road Lincoln\, NE
SUMMARY:Team Leader Meeting
END:VEVENT
END:VCALENDAR
