BEGIN:VCALENDAR
VERSION:2.0
PRODID:-//scipnebraska.com//NONSGML kigkonsult.se iCalcreator 2.30.10//
CALSCALE:GREGORIAN
METHOD:PUBLISH
UID:f60f1ab4-b6bd-42fa-992e-4ec62e855a5c
X-WR-CALDESC:SCIP is proud to announce our Spring Conference “Supporting Yo
 uth in Schools & Communities…Addressing Violence in Their World” set to ta
 ke place on March 31\, 2016. The event will take place at Bryan Health Med
 ical Center -East in Lincoln\, NE. We have several great speakers lined up
  for this event\, including Phil Chalmers author of 'Inside the Mind of a 
 Teen Killer'. There will also be a presentation by RESPECT.  To register f
 or the event use the link below.
X-WR-RELCALID:6d5e478d5f44704ec1cc12e80be8cca5
X-WR-TIMEZONE:America/Chicago
BEGIN:VTIMEZONE
TZID:America/Chicago
BEGIN:STANDARD
TZNAME:CST
DTSTART:20151101T020000
TZOFFSETFROM:-0500
TZOFFSETTO:-0600
RDATE:20161106T020000
END:STANDARD
BEGIN:DAYLIGHT
TZNAME:CDT
DTSTART:20160313T020000
TZOFFSETFROM:-0600
TZOFFSETTO:-0500
RDATE:20170312T020000
END:DAYLIGHT
END:VTIMEZONE
BEGIN:VEVENT
UID:80674427-004c-420f-87b5-33dcddd69c41
DTSTAMP:20260425T114213Z
DESCRIPTION:SCIP is proud to announce our Spring Conference “Supporting You
 th in Schools & Communities…Addressing Violence in Their World” set to tak
 e place on March 31\, 2016. The event will take place at Bryan Health Medi
 cal Center -East in Lincoln\, NE. We have several great speakers lined up 
 for this event\, including Phil Chalmers author of 'Inside the Mind of a T
 een Killer'. There will also be a presentation by RESPECT.  To register fo
 r the event use the link below.
DTSTART;TZID=America/Chicago:20160331T080000
DTEND;TZID=America/Chicago:20160331T160000
LOCATION:Bryan Health - East Campus
SUMMARY:Spring Conference: 'Supporting Youth in Schools & Communities...Add
 ressing Violence in Their World'
END:VEVENT
END:VCALENDAR
