BEGIN:VCALENDAR
VERSION:2.0
PRODID:-//scipnebraska.com//NONSGML kigkonsult.se iCalcreator 2.30.10//
CALSCALE:GREGORIAN
METHOD:PUBLISH
UID:536d858a-8062-4b0f-b421-a1dfd7005320
X-WR-CALDESC:
X-WR-RELCALID:25ffe4cde0fd81579f5c3bb43f969939
X-WR-TIMEZONE:America/Chicago
BEGIN:VTIMEZONE
TZID:America/Chicago
BEGIN:STANDARD
TZNAME:CST
DTSTART:20151101T020000
TZOFFSETFROM:-0500
TZOFFSETTO:-0600
RDATE:20161106T020000
END:STANDARD
BEGIN:DAYLIGHT
TZNAME:CDT
DTSTART:20150308T020000
TZOFFSETFROM:-0600
TZOFFSETTO:-0500
RDATE:20160313T020000
RDATE:20170312T020000
END:DAYLIGHT
END:VTIMEZONE
BEGIN:VEVENT
UID:a270f23c-4914-4981-a776-24ce597f26ef
DTSTAMP:20260425T132512Z
DESCRIPTION:
DTSTART;TZID=America/Chicago:20160204T140000
DTEND;TZID=America/Chicago:20160204T150000
LOCATION:LMEP\, 4600 Valley Road\, Lincoln\, NE 68510
SUMMARY:Team Leader Meeting
END:VEVENT
END:VCALENDAR
