BEGIN:VCALENDAR
VERSION:2.0
PRODID:-//scipnebraska.com//NONSGML kigkonsult.se iCalcreator 2.30.10//
CALSCALE:GREGORIAN
METHOD:PUBLISH
UID:14d44da3-4b3c-4557-af41-580f854a6942
X-WR-CALDESC:This training is brought to you by Training for Addiction Prof
 essionals a sister program of SCIP. \nDrugs of abuse are ever fluctuating 
 and awareness of prevailing trends is of crucial importance to professiona
 ls in law enforcement\, substance use prevention and addictions treatment.
  This training is specifically designed for mental health professionals tr
 eating criminal justice clients for substance use disorders. Attendees wil
 l learn to recognize the signs\, symptoms and brain chemistry of different
  drugs\; criminogenic needs\, risk factors and behaviors involved and the 
 laws that cover sales and use. \nPre-registration is required. Register th
 rough Training for Addiction Professionals
X-WR-RELCALID:e79cd1e63774ff1140dc8463c14b48ff
X-WR-TIMEZONE:America/Chicago
BEGIN:VTIMEZONE
TZID:America/Chicago
BEGIN:STANDARD
TZNAME:CST
DTSTART:20151101T020000
TZOFFSETFROM:-0500
TZOFFSETTO:-0600
RDATE:20161106T020000
END:STANDARD
BEGIN:DAYLIGHT
TZNAME:CDT
DTSTART:20150308T020000
TZOFFSETFROM:-0600
TZOFFSETTO:-0500
RDATE:20160313T020000
RDATE:20170312T020000
END:DAYLIGHT
END:VTIMEZONE
BEGIN:VEVENT
UID:b0cbffd9-9924-4770-869e-d25d8459212f
DTSTAMP:20260425T181226Z
DESCRIPTION:This training is brought to you by Training for Addiction Profe
 ssionals a sister program of SCIP. \nDrugs of abuse are ever fluctuating a
 nd awareness of prevailing trends is of crucial importance to professional
 s in law enforcement\, substance use prevention and addictions treatment. 
 This training is specifically designed for mental health professionals tre
 ating criminal justice clients for substance use disorders. Attendees will
  learn to recognize the signs\, symptoms and brain chemistry of different 
 drugs\; criminogenic needs\, risk factors and behaviors involved and the l
 aws that cover sales and use. \nPre-registration is required. Register thr
 ough Training for Addiction Professionals
DTSTART;TZID=America/Chicago:20151123T080000
DTEND;TZID=America/Chicago:20151123T160000
LOCATION:Lincoln\, NE Video Conference to North Platte
SUMMARY:Emerging Drug Trends
END:VEVENT
END:VCALENDAR
