BEGIN:VCALENDAR
VERSION:2.0
PRODID:-//scipnebraska.com//NONSGML kigkonsult.se iCalcreator 2.30.10//
CALSCALE:GREGORIAN
METHOD:PUBLISH
UID:0c7ea194-0a46-4854-946e-e0a27f4382f8
X-WR-CALDESC:
X-WR-RELCALID:cfb37cea3ac71e7d628ed9114b634911
X-WR-TIMEZONE:America/Chicago
BEGIN:VTIMEZONE
TZID:America/Chicago
BEGIN:STANDARD
TZNAME:CST
DTSTART:20151101T020000
TZOFFSETFROM:-0500
TZOFFSETTO:-0600
RDATE:20161106T020000
END:STANDARD
BEGIN:DAYLIGHT
TZNAME:CDT
DTSTART:20150308T020000
TZOFFSETFROM:-0600
TZOFFSETTO:-0500
RDATE:20160313T020000
RDATE:20170312T020000
END:DAYLIGHT
END:VTIMEZONE
BEGIN:VEVENT
UID:359d4588-dd3b-496f-8719-5d4f87c9ca06
DTSTAMP:20260425T180711Z
DESCRIPTION:
DTSTART;TZID=America/Chicago:20151105T140000
DTEND;TZID=America/Chicago:20151105T150000
LOCATION:LMEP\, 4600 Valley Road\, Lincoln\, NE 68510
SUMMARY:Team Leader Meeting
END:VEVENT
END:VCALENDAR
