BEGIN:VCALENDAR
VERSION:2.0
PRODID:-//scipnebraska.com//NONSGML kigkonsult.se iCalcreator 2.30.10//
CALSCALE:GREGORIAN
METHOD:PUBLISH
UID:95251176-94eb-466b-ada5-5661a182588b
X-WR-CALDESC:Hosted at the Lincoln Medical Education Partnership\, within t
 he VRBKA Classrooms.
X-WR-RELCALID:957cf07812dec62b43b89e96a2bbb5bc
X-WR-TIMEZONE:America/Chicago
BEGIN:VTIMEZONE
TZID:America/Chicago
BEGIN:STANDARD
TZNAME:CST
DTSTART:20251102T020000
TZOFFSETFROM:-0500
TZOFFSETTO:-0600
RDATE:20261101T020000
RDATE:20271107T020000
END:STANDARD
BEGIN:DAYLIGHT
TZNAME:CDT
DTSTART:20260308T020000
TZOFFSETFROM:-0600
TZOFFSETTO:-0500
RDATE:20270314T020000
END:DAYLIGHT
END:VTIMEZONE
BEGIN:VEVENT
UID:749f1a7f-a4bc-4bb7-b1b0-7d0658d49cd8
DTSTAMP:20260424T084917Z
DESCRIPTION:Hosted at the Lincoln Medical Education Partnership\, within th
 e VRBKA Classrooms.
DTSTART;TZID=America/Chicago:20260623T050000
DTEND;TZID=America/Chicago:20260624T050001
LOCATION:4600 Valley Road\, Lincoln\, AL 68510 US
SUMMARY:Drug Impairment Training for Education Professionals
END:VEVENT
END:VCALENDAR
