BEGIN:VCALENDAR
VERSION:2.0
PRODID:-//scipnebraska.com//NONSGML kigkonsult.se iCalcreator 2.30.10//
CALSCALE:GREGORIAN
METHOD:PUBLISH
UID:10a66cfa-f70f-46da-b23a-e98347c33939
X-WR-CALDESC:
X-WR-RELCALID:1c3b6e62d7dda0342ae02ed12b4c38a9
X-WR-TIMEZONE:America/Chicago
BEGIN:VTIMEZONE
TZID:America/Chicago
BEGIN:STANDARD
TZNAME:CST
DTSTART:20251102T020000
TZOFFSETFROM:-0500
TZOFFSETTO:-0600
RDATE:20261101T020000
END:STANDARD
BEGIN:DAYLIGHT
TZNAME:CDT
DTSTART:20260308T020000
TZOFFSETFROM:-0600
TZOFFSETTO:-0500
RDATE:20270314T020000
END:DAYLIGHT
END:VTIMEZONE
BEGIN:VEVENT
UID:f3546b0a-b89d-4a91-8ba8-dff84565a423
DTSTAMP:20260423T110542Z
DESCRIPTION:
DTSTART;TZID=America/Chicago:20260507T140000
DTEND;TZID=America/Chicago:20260507T150000
LOCATION:Keep a look out for an email with more details!
SUMMARY:Team Leader Meeting
END:VEVENT
END:VCALENDAR
