BEGIN:VCALENDAR
VERSION:2.0
PRODID:-//scipnebraska.com//NONSGML kigkonsult.se iCalcreator 2.30.10//
CALSCALE:GREGORIAN
METHOD:PUBLISH
UID:b027961e-f579-4193-9046-80982f433e56
X-WR-CALDESC:May is Mental Health Awareness Month. This month\, we raise aw
 areness for mental health disorders and encourage everyone to prioritize t
 heir emotional well-being. Check out SCIP's resources to learn more about 
 Mental Health disorders\, resources\, and review the resilience guides.
X-WR-RELCALID:2ba16a0557a70280e8e2760cd853eadc
X-WR-TIMEZONE:America/Chicago
BEGIN:VTIMEZONE
TZID:America/Chicago
BEGIN:STANDARD
TZNAME:CST
DTSTART:20251102T020000
TZOFFSETFROM:-0500
TZOFFSETTO:-0600
RDATE:20261101T020000
END:STANDARD
BEGIN:DAYLIGHT
TZNAME:CDT
DTSTART:20260308T020000
TZOFFSETFROM:-0600
TZOFFSETTO:-0500
RDATE:20270314T020000
END:DAYLIGHT
END:VTIMEZONE
BEGIN:VEVENT
UID:ab79c1b7-3b9d-4a11-9c88-e6a4e563dcd1
DTSTAMP:20260421T033110Z
DESCRIPTION:May is Mental Health Awareness Month. This month\, we raise awa
 reness for mental health disorders and encourage everyone to prioritize th
 eir emotional well-being. Check out SCIP's resources to learn more about M
 ental Health disorders\, resources\, and review the resilience guides.
DTSTART;TZID=America/Chicago:20260501T050000
DTEND;TZID=America/Chicago:20260501T050001
LOCATION:
SUMMARY:Mental Health Awareness Month
END:VEVENT
END:VCALENDAR
