BEGIN:VCALENDAR
VERSION:2.0
PRODID:-//scipnebraska.com//NONSGML kigkonsult.se iCalcreator 2.30.10//
CALSCALE:GREGORIAN
METHOD:PUBLISH
UID:8d984256-2439-4852-9f3f-61fec53b0e71
X-WR-CALDESC:
X-WR-RELCALID:ed65b2819379d89e22a9c9e1855e22e3
X-WR-TIMEZONE:America/Chicago
BEGIN:VTIMEZONE
TZID:America/Chicago
BEGIN:STANDARD
TZNAME:CST
DTSTART:20251102T020000
TZOFFSETFROM:-0500
TZOFFSETTO:-0600
RDATE:20261101T020000
END:STANDARD
BEGIN:DAYLIGHT
TZNAME:CDT
DTSTART:20260308T020000
TZOFFSETFROM:-0600
TZOFFSETTO:-0500
RDATE:20270314T020000
END:DAYLIGHT
END:VTIMEZONE
BEGIN:VEVENT
UID:70547782-e7cb-494d-8d43-506cafa83661
DTSTAMP:20260421T032931Z
DESCRIPTION:
DTSTART;TZID=America/Chicago:20260501T050000
DTEND;TZID=America/Chicago:20260501T050001
LOCATION:https://scipnebraska.com/newsletters/
SUMMARY:May Newsletter
END:VEVENT
END:VCALENDAR
