BEGIN:VCALENDAR
VERSION:2.0
PRODID:-//scipnebraska.com//NONSGML kigkonsult.se iCalcreator 2.30.10//
CALSCALE:GREGORIAN
METHOD:PUBLISH
UID:41a1799e-5c7b-4193-93b2-9e6ed9f5e432
X-WR-CALDESC:Topic: The Truth About Vaping\nChristina Hitz’s background spa
 ns the fields of public health\, law enforcement and communications.  She 
 currently serves as a public health educator at the Lincoln-Lancaster Coun
 ty Health Department where she specializes in tobacco prevention and works
  to educate the community about evolving nicotine products.  Her presentat
 ion will include some myth busting\; vapor products are not just harmless 
 water vapor.  Local data and trends on vaping will be provided\, as well a
 s information about one of the hottest electronic cigarettes on the market
 \, JUUL.  How to spot vaping behaviors\, what adults can do to be proactiv
 e\, resources for learning more and for quitting any nicotine products wil
 l also be provided.    \n\nOur youth are our future’s greatest asset.  Sch
 ools\, parents\, caregivers and communities all play a role in providing s
 upportive pathways for our youth as they navigate childhood and adolescenc
 e.  SCIP (School Community Intervention and Prevention) is partnering with
  Lincoln Public Schools\, Bryan Independence Center and the Lancaster Prev
 ention Coalition to put on a series of valuable presentations about how to
  support the health and well-being of our community’s youth.  These events
  are open to parents\, students\, school professionals and community membe
 rs.
X-WR-RELCALID:507e0d0921f0fc88e7de29d5d90ecaa8
X-WR-TIMEZONE:America/Chicago
BEGIN:VTIMEZONE
TZID:America/Chicago
BEGIN:STANDARD
TZNAME:CST
DTSTART:20171105T020000
TZOFFSETFROM:-0500
TZOFFSETTO:-0600
RDATE:20181104T020000
RDATE:20191103T020000
END:STANDARD
BEGIN:DAYLIGHT
TZNAME:CDT
DTSTART:20180311T020000
TZOFFSETFROM:-0600
TZOFFSETTO:-0500
RDATE:20190310T020000
RDATE:20200308T020000
END:DAYLIGHT
END:VTIMEZONE
BEGIN:VEVENT
UID:b9981dcd-13b4-4e22-9398-da9eb06f3cda
DTSTAMP:20260420T105500Z
DESCRIPTION:Topic: The Truth About Vaping\nChristina Hitz’s background span
 s the fields of public health\, law enforcement and communications.  She c
 urrently serves as a public health educator at the Lincoln-Lancaster Count
 y Health Department where she specializes in tobacco prevention and works 
 to educate the community about evolving nicotine products.  Her presentati
 on will include some myth busting\; vapor products are not just harmless w
 ater vapor.  Local data and trends on vaping will be provided\, as well as
  information about one of the hottest electronic cigarettes on the market\
 , JUUL.  How to spot vaping behaviors\, what adults can do to be proactive
 \, resources for learning more and for quitting any nicotine products will
  also be provided.    \n\nOur youth are our future’s greatest asset.  Scho
 ols\, parents\, caregivers and communities all play a role in providing su
 pportive pathways for our youth as they navigate childhood and adolescence
 .  SCIP (School Community Intervention and Prevention) is partnering with 
 Lincoln Public Schools\, Bryan Independence Center and the Lancaster Preve
 ntion Coalition to put on a series of valuable presentations about how to 
 support the health and well-being of our community’s youth.  These events 
 are open to parents\, students\, school professionals and community member
 s.
DTSTART;TZID=America/Chicago:20180927T183000
DTEND;TZID=America/Chicago:20180927T200000
LOCATION:
SUMMARY:Community Awareness Series: Promoting Healthy Behaviors
END:VEVENT
END:VCALENDAR
